BEGIN:VCALENDAR
VERSION:2.0
PRODID:-//eventon.com NONSGML v1.0//EN
BEGIN:VEVENT
UID:69e7420852a99
DTSTAMP:20260421T092320
DTSTART:20260117T000000Z
DTEND:20260119T235900Z
LOCATION:
SUMMARY:INNATEX 57
DESCRIPTION: INNATEX 57
END:VEVENT
END:VCALENDAR